BEGIN:VCALENDAR
VERSION:2.0
PRODID:-//eventon.com NONSGML v1.0//EN
CALSCALE:GREGORIAN
METHOD:PUBLISH
BEGIN:VEVENT
UID:69e7472c384cc
DTSTAMP:20260421T094516Z
DTSTART:20230603T100000Z
DTEND:20230603T190000Z
LOCATION:
SUMMARY:Tournoi du Littoral Andernos 2023
DESCRIPTION:Tournoi du Littoral Andernos 2023\nhttps://biscarrossebridgeclu
 b.fr/Event/tournoi-du-littoral-andernos-2023/
URL:https://biscarrossebridgeclub.fr/Event/tournoi-du-littoral-andernos-2023/
END:VEVENT
END:VCALENDAR