BEGIN:VCALENDAR
VERSION:2.0
PRODID:-//eventon.com NONSGML v1.0//EN
CALSCALE:GREGORIAN
METHOD:PUBLISH
BEGIN:VEVENT
UID:69e4f110d55c5
DTSTAMP:20260419T151320Z
DTSTART:20240506T143000Z
DTEND:20240506T180000Z
LOCATION:
SUMMARY:Tournoi du Littoral Arès
DESCRIPTION:Tournoi du Littoral Arès\nhttps://biscarrossebridgeclub.fr/Eve
 nt/tournoi-du-littoral-ares/
URL:https://biscarrossebridgeclub.fr/Event/tournoi-du-littoral-ares/
END:VEVENT
END:VCALENDAR